BEGIN:VCALENDAR
VERSION:2.0
PRODID:-//DMD - Downtown El Paso - ECPv6.15.20//NONSGML v1.0//EN
CALSCALE:GREGORIAN
METHOD:PUBLISH
X-WR-CALNAME:DMD - Downtown El Paso
X-ORIGINAL-URL:https://downtownelpaso.com
X-WR-CALDESC:Events for DMD - Downtown El Paso
REFRESH-INTERVAL;VALUE=DURATION:PT1H
X-Robots-Tag:noindex
X-PUBLISHED-TTL:PT1H
BEGIN:VTIMEZONE
TZID:America/Denver
BEGIN:DAYLIGHT
TZOFFSETFROM:-0700
TZOFFSETTO:-0600
TZNAME:MDT
DTSTART:20250309T090000
END:DAYLIGHT
BEGIN:STANDARD
TZOFFSETFROM:-0600
TZOFFSETTO:-0700
TZNAME:MST
DTSTART:20251102T080000
END:STANDARD
BEGIN:DAYLIGHT
TZOFFSETFROM:-0700
TZOFFSETTO:-0600
TZNAME:MDT
DTSTART:20260308T090000
END:DAYLIGHT
BEGIN:STANDARD
TZOFFSETFROM:-0600
TZOFFSETTO:-0700
TZNAME:MST
DTSTART:20261101T080000
END:STANDARD
BEGIN:DAYLIGHT
TZOFFSETFROM:-0700
TZOFFSETTO:-0600
TZNAME:MDT
DTSTART:20270314T090000
END:DAYLIGHT
BEGIN:STANDARD
TZOFFSETFROM:-0600
TZOFFSETTO:-0700
TZNAME:MST
DTSTART:20271107T080000
END:STANDARD
END:VTIMEZONE
BEGIN:VEVENT
DTSTART;VALUE=DATE:20260501
DTEND;VALUE=DATE:20260504
DTSTAMP:20260422T084129
CREATED:20251229T182413Z
LAST-MODIFIED:20251229T182413Z
UID:11765-1777593600-1777852799@downtownelpaso.com
SUMMARY:Clue
DESCRIPTION:Murder and blackmail are on the menu when six mysterious guests assemble at Boddy Manor for a night they’ll never forget! Was it Mrs. Peacock in the study with the knife? Or was it Colonel Mustard in the library with the wrench? Based on the fan-favorite 1985 Paramount Pictures movie and inspired by the classic Hasbro board game\, Clue is the ultimate whodunit that will leave you dying of laughter and keep you guessing until the final twist. ©2025 Hasbro. All rights reserved. \nShows and dates are subject to change. Some fees may not be refundable. Everyone needs a ticket\, regardless of age. Children under the age of 6 are not allowed at most Broadway in El Paso performances. Some exceptions apply\, including special productions for young children such as Bluey’s Big Play and Paw Patrol. Children must be able to sit quietly in their own seats without disturbing other guests. As a further courtesy to our guests\, Broadway in El Paso recommends one parent or chaperone for every one child in attendance. Ticket policies are at the discretion of The Plaza Theatre and Broadway In El Paso and may be changed at any time. \n  \nFriday\, May 1\, 2026 – 8:00 PM (Doors open at 7:00 PM)\nSaturday\, May 2\, 2026 – 2:00 PM (Doors open at 1:00 PM)\nSaturday\, May 2\, 2026 – 8:00 PM (Doors open at 7:00 PM)\nSunday\, May 3\, 2026 – 1:00 PM (Doors open at 12:00 PM) \n  \nTickets: Click Here
URL:https://downtownelpaso.com/event/clue/
LOCATION:The Plaza Theatre\, 125 W Mills Ave\, El Paso\, TX\, 79901\, United States
ATTACH;FMTTYPE=image/jpeg:https://downtownelpaso.com/wp-content/uploads/2025/12/ELP_Clue_930x560.jpeg
END:VEVENT
BEGIN:VEVENT
DTSTART;VALUE=DATE:20260501
DTEND;VALUE=DATE:20260504
DTSTAMP:20260422T084129
CREATED:20251229T182548Z
LAST-MODIFIED:20251229T182548Z
UID:11767-1777593600-1777852799@downtownelpaso.com
SUMMARY:El Paso Comic Con
DESCRIPTION:Visit the El Paso Comic Con website for a full schedule of events. \nTickets: Click here
URL:https://downtownelpaso.com/event/el-paso-comic-con-2/
LOCATION:El Paso Convention Center\, 1 Civic Center Plaza\, El Paso\, TX\, 79901\, United States
ATTACH;FMTTYPE=image/jpeg:https://downtownelpaso.com/wp-content/uploads/2025/12/930x560_7.jpg
END:VEVENT
END:VCALENDAR