BEGIN:VCALENDAR
VERSION:2.0
PRODID:-//DMD - Downtown El Paso - ECPv6.15.20//NONSGML v1.0//EN
CALSCALE:GREGORIAN
METHOD:PUBLISH
X-WR-CALNAME:DMD - Downtown El Paso
X-ORIGINAL-URL:https://downtownelpaso.com
X-WR-CALDESC:Events for DMD - Downtown El Paso
REFRESH-INTERVAL;VALUE=DURATION:PT1H
X-Robots-Tag:noindex
X-PUBLISHED-TTL:PT1H
BEGIN:VTIMEZONE
TZID:America/Denver
BEGIN:DAYLIGHT
TZOFFSETFROM:-0700
TZOFFSETTO:-0600
TZNAME:MDT
DTSTART:20250309T090000
END:DAYLIGHT
BEGIN:STANDARD
TZOFFSETFROM:-0600
TZOFFSETTO:-0700
TZNAME:MST
DTSTART:20251102T080000
END:STANDARD
BEGIN:DAYLIGHT
TZOFFSETFROM:-0700
TZOFFSETTO:-0600
TZNAME:MDT
DTSTART:20260308T090000
END:DAYLIGHT
BEGIN:STANDARD
TZOFFSETFROM:-0600
TZOFFSETTO:-0700
TZNAME:MST
DTSTART:20261101T080000
END:STANDARD
BEGIN:DAYLIGHT
TZOFFSETFROM:-0700
TZOFFSETTO:-0600
TZNAME:MDT
DTSTART:20270314T090000
END:DAYLIGHT
BEGIN:STANDARD
TZOFFSETFROM:-0600
TZOFFSETTO:-0700
TZNAME:MST
DTSTART:20271107T080000
END:STANDARD
END:VTIMEZONE
BEGIN:VEVENT
DTSTART;TZID=America/Denver:20260328T110000
DTEND;TZID=America/Denver:20260328T170000
DTSTAMP:20260422T101300
CREATED:20260324T170228Z
LAST-MODIFIED:20260324T170228Z
UID:12549-1774695600-1774717200@downtownelpaso.com
SUMMARY:¡VIVA LA CAUSA!
DESCRIPTION:Join us the last weekend of March to celebrate the Farm Worker Movement and its leaders: Cesar Chavez\, Dolores Huerta\, and Larry Itliong! Thanks to their organizing\, boycotts\, and campaigns\, our agricultural labor rights were reshaped\, allowing fair wages and more humane working conditions. Alas\, their work and legacy continues – let’s come together on March 28th from 11 am to 5 pm for this set of creative workshops and informational sessions! ¡SI SE PUEDE! Saturday\, March 28th: 11 am – 5 pm Activities & sessions start times vary. Please see the graphics for schedule! @ the MACC\, 201 W. Franklin Ave.\, El Paso\, TX Free admission. Entry accesible to all. While supplies last! —- Acompáñanos el ultimo fin de semana de este mes para celebrar el movimiento de trabajadores agrícolas y sus lideres\, como César Chávez\, Dolores Huerta\, y Larry Itliong! Gracias a su sindicación\, boicoteos\, y campañas\, los derechos del labor agrícolo fueron transformados\, permitiendo un sueldo justo y condiciones de trabajo mas humanas. En fin\, su trabajo y legado continuan – vamos a juntarnos el 28 de marzo fe 11 am a 5 pm para estos talleres creativos y sesiones informativas! ¡SI SE PUEDE! Sábado\, 28 de marzo: 11 am – 5 pm Las actividades & sesiones comienzan en tiempos variados. Accese los graficos para el horario! En el MACC\, 201 W. Franklin Ave.\, El Paso\, TX Entrada gratuita y accesible a todos. Hasta que el material se agote!
URL:https://downtownelpaso.com/event/viva-la-causa/
LOCATION:Mexican American Cultural Center (MACC)\, 201 E Franklin Ave\, El Paso\, 79901\, United States
ATTACH;FMTTYPE=image/jpeg:https://downtownelpaso.com/wp-content/uploads/2026/03/vivalacausa2026-activities1.jpg
ORGANIZER;CN="Mexican American Cultural Center":MAILTO:maccexhibits@elpasotexas.gov
END:VEVENT
BEGIN:VEVENT
DTSTART;TZID=America/Denver:20260328T130000
DTEND;TZID=America/Denver:20260328T140000
DTSTAMP:20260422T101300
CREATED:20260324T170058Z
LAST-MODIFIED:20260324T170058Z
UID:12547-1774702800-1774706400@downtownelpaso.com
SUMMARY:Free Yoga Saturdays
DESCRIPTION:Join this beginner and family-friendly yoga class designed to help with flexibility\, strength\, balance\, as well as improve mental health. Whether you’re new to yoga or just looking for a peaceful weekend reset\, come move\, breathe\, and flow with us in a supportive and inclusive environment. \nInstructor Erica Marin believes that yoga should be accessible to the El Paso community regardless of economic background. \nContact Name: El Paso Museum of History \nContact Phone Number: (915) 212-3150
URL:https://downtownelpaso.com/event/free-yoga-saturdays/
LOCATION:El Paso Museum of History\, 510 N Santa Fe St\, El Paso\, TX\, 79901\, United States
ATTACH;FMTTYPE=image/png:https://downtownelpaso.com/wp-content/uploads/2026/03/Screenshot_2026-02-03_203811.png
END:VEVENT
BEGIN:VEVENT
DTSTART;TZID=America/Denver:20260328T130000
DTEND;TZID=America/Denver:20260328T140000
DTSTAMP:20260422T101300
CREATED:20260324T170430Z
LAST-MODIFIED:20260324T170430Z
UID:12552-1774702800-1774706400@downtownelpaso.com
SUMMARY:Fab Lab- Spring Automata
DESCRIPTION:Celebrate the season of growth and creativity in Spring Automata: Nature in Motion! Guests will design and build their own moving mechanical creations inspired by the natural world—from fluttering wings to blooming flowers. \nAlong the way\, they’ll explore the fascinating art of automata\, discovering how simple machines like cams\, gears\, and levers can transform imagination into lifelike motion. Blending art\, engineering\, and storytelling\, this workshop invites young makers to bring springtime scenes to life through movement and creativity. \nSpaces are limited. Sign up in person with Fab Lab El Paso staff starting at 12:30pm.
URL:https://downtownelpaso.com/event/fab-lab-spring-automata/
LOCATION:La Nube\, 201 W. Main Drive\, El Paso\, TX\, 79901\, United States
ATTACH;FMTTYPE=image/png:https://downtownelpaso.com/wp-content/uploads/2026/03/Screenshot_2026-03-10_173932.png
ORGANIZER;CN="Fab Lab":MAILTO:info@fablabelpaso.org.
END:VEVENT
BEGIN:VEVENT
DTSTART;TZID=America/Denver:20260328T200000
DTEND;TZID=America/Denver:20260328T220000
DTSTAMP:20260422T101300
CREATED:20260324T165943Z
LAST-MODIFIED:20260324T165943Z
UID:12546-1774728000-1774735200@downtownelpaso.com
SUMMARY:Haunted Brothel Tour with Ghosts915
DESCRIPTION:El Paso’s original “sin” comes alive on this Haunted Brothel Tour! \nWe hold NOTHING back as our ghost tour guides will take you in the darkest alleys and reveal El Paso’s secret history. This two hour walking excursion will take you into “ the reservation” and expose murder\, corruption\, adultery\, and prostitution of the Old West! \nTHIS will be the most shocking and revealing history of the Sun City. \nWARNING: This ghost tour is NOT for small children\, the faint of heart\, or the easily offended. This tour WILL contain adult situations\, offensive history\, and adult language. \nWe meet at the Society office\, The Wigwam Museum. This building\, which rests on the foundation of the original Wigwam Saloon\, once owned by John Wesley Hardin\, is the Trost version of The Wigwam Theater and the State Theater. Our museum houses a personal collection of items that recreate El Paso’s past. From the Chinese\, Gunfighters\, Brothels\, Saloons\, and much more\, walk with us and step into El Paso’s Haunted History. \nADMISSION INFORMATION: Please verify the date and time of your tour. No refunds for late arrivals\, weather cancellations or missed tours. Your purchase is good for any tour within 3 months of purchase. Please confirm all arrival times. \nChildren 15 and up \nTickets: https://checkout.square.site/buy/YKTOHKA6HVLI24KHJBMFIGU2
URL:https://downtownelpaso.com/event/haunted-brothel-tour-with-ghosts915-6/
LOCATION:Wigwam Museum\, 110 E San Antonio Ave\, El Paso\, 79901\, United States
ATTACH;FMTTYPE=image/jpeg:https://downtownelpaso.com/wp-content/uploads/2025/12/IMG_3588.jpeg
END:VEVENT
BEGIN:VEVENT
DTSTART;TZID=America/Denver:20260328T200000
DTEND;TZID=America/Denver:20260328T230000
DTSTAMP:20260422T101300
CREATED:20251229T180806Z
LAST-MODIFIED:20251229T180806Z
UID:11749-1774728000-1774738800@downtownelpaso.com
SUMMARY:The Fab Four Performing Help!
DESCRIPTION:Tickets: Click Here
URL:https://downtownelpaso.com/event/the-fab-four-performing-help/
LOCATION:The Plaza Theatre\, 125 W Mills Ave\, El Paso\, TX\, 79901\, United States
ATTACH;FMTTYPE=image/jpeg:https://downtownelpaso.com/wp-content/uploads/2025/12/fab_four_el_pase_930x560.jpg
END:VEVENT
END:VCALENDAR