BEGIN:VCALENDAR
VERSION:2.0
PRODID:-//DMD - Downtown El Paso - ECPv6.15.20//NONSGML v1.0//EN
CALSCALE:GREGORIAN
METHOD:PUBLISH
X-ORIGINAL-URL:https://downtownelpaso.com
X-WR-CALDESC:Events for DMD - Downtown El Paso
REFRESH-INTERVAL;VALUE=DURATION:PT1H
X-Robots-Tag:noindex
X-PUBLISHED-TTL:PT1H
BEGIN:VTIMEZONE
TZID:America/Denver
BEGIN:DAYLIGHT
TZOFFSETFROM:-0700
TZOFFSETTO:-0600
TZNAME:MDT
DTSTART:20240310T090000
END:DAYLIGHT
BEGIN:STANDARD
TZOFFSETFROM:-0600
TZOFFSETTO:-0700
TZNAME:MST
DTSTART:20241103T080000
END:STANDARD
BEGIN:DAYLIGHT
TZOFFSETFROM:-0700
TZOFFSETTO:-0600
TZNAME:MDT
DTSTART:20250309T090000
END:DAYLIGHT
BEGIN:STANDARD
TZOFFSETFROM:-0600
TZOFFSETTO:-0700
TZNAME:MST
DTSTART:20251102T080000
END:STANDARD
BEGIN:DAYLIGHT
TZOFFSETFROM:-0700
TZOFFSETTO:-0600
TZNAME:MDT
DTSTART:20260308T090000
END:DAYLIGHT
BEGIN:STANDARD
TZOFFSETFROM:-0600
TZOFFSETTO:-0700
TZNAME:MST
DTSTART:20261101T080000
END:STANDARD
END:VTIMEZONE
BEGIN:VEVENT
DTSTART;TZID=America/Denver:20251107T173000
DTEND;TZID=America/Denver:20251107T233000
DTSTAMP:20260421T075819
CREATED:20251103T175320Z
LAST-MODIFIED:20251103T175320Z
UID:11557-1762536600-1762558200@downtownelpaso.com
SUMMARY:Rockabilly Riot Pre-Party
DESCRIPTION:???????? All-ages FREE event — featuring classic cars\, Pin-Ups\, and LIVE MUSIC! \nBring the whole family out for a night full of fun\, style\, and community vibes! ???????? \n  \nFriday\, November 7th | 5:00 PM – 12:00 AM \nMusic Starts at 6:00 PM \n 
URL:https://downtownelpaso.com/event/rockabilly-riot-pre-party/
LOCATION:La Bang Bang\, 414 E. San Antonio Avenue\, El Paso\, Texas\, 79901
ATTACH;FMTTYPE=image/jpeg:https://downtownelpaso.com/wp-content/uploads/2025/11/SnapInsta.to_566237403_801419602603487_6496307663613362763_n.jpg
END:VEVENT
END:VCALENDAR