BEGIN:VCALENDAR
VERSION:2.0
PRODID:-//DMD - Downtown El Paso - ECPv6.15.20//NONSGML v1.0//EN
CALSCALE:GREGORIAN
METHOD:PUBLISH
X-WR-CALNAME:DMD - Downtown El Paso
X-ORIGINAL-URL:https://downtownelpaso.com
X-WR-CALDESC:Events for DMD - Downtown El Paso
REFRESH-INTERVAL;VALUE=DURATION:PT1H
X-Robots-Tag:noindex
X-PUBLISHED-TTL:PT1H
BEGIN:VTIMEZONE
TZID:America/Denver
BEGIN:DAYLIGHT
TZOFFSETFROM:-0700
TZOFFSETTO:-0600
TZNAME:MDT
DTSTART:20250309T090000
END:DAYLIGHT
BEGIN:STANDARD
TZOFFSETFROM:-0600
TZOFFSETTO:-0700
TZNAME:MST
DTSTART:20251102T080000
END:STANDARD
BEGIN:DAYLIGHT
TZOFFSETFROM:-0700
TZOFFSETTO:-0600
TZNAME:MDT
DTSTART:20260308T090000
END:DAYLIGHT
BEGIN:STANDARD
TZOFFSETFROM:-0600
TZOFFSETTO:-0700
TZNAME:MST
DTSTART:20261101T080000
END:STANDARD
BEGIN:DAYLIGHT
TZOFFSETFROM:-0700
TZOFFSETTO:-0600
TZNAME:MDT
DTSTART:20270314T090000
END:DAYLIGHT
BEGIN:STANDARD
TZOFFSETFROM:-0600
TZOFFSETTO:-0700
TZNAME:MST
DTSTART:20271107T080000
END:STANDARD
END:VTIMEZONE
BEGIN:VEVENT
DTSTART;TZID=America/Denver:20260118T110000
DTEND;TZID=America/Denver:20260118T120000
DTSTAMP:20260421T075807
CREATED:20260112T181124Z
LAST-MODIFIED:20260112T181124Z
UID:11856-1768734000-1768737600@downtownelpaso.com
SUMMARY:Vida Sana: Meditation Drop-in
DESCRIPTION:Invite more calm\, patience\, and happiness into your life. Join Bettina Escudero\, meditation teacher and trauma-informed group leader\, for a beginner-friendly meditation workshop. You’ll learn how to relieve stress with science-backed mindfulness techniques and how to ground yourself in your body to become more resilient and compassionate with yourself and others.
URL:https://downtownelpaso.com/event/vida-sana-meditation-drop-in/
LOCATION:Mexican American Cultural Center (MACC)\, 201 E Franklin Ave\, El Paso\, 79901\, United States
ATTACH;FMTTYPE=image/png:https://downtownelpaso.com/wp-content/uploads/2026/01/MACC.png
ORGANIZER;CN="Mexican American Cultural Center":MAILTO:maccexhibits@elpasotexas.gov
END:VEVENT
END:VCALENDAR