BEGIN:VCALENDAR
VERSION:2.0
PRODID:-//DMD - Downtown El Paso - ECPv6.15.20//NONSGML v1.0//EN
CALSCALE:GREGORIAN
METHOD:PUBLISH
X-WR-CALNAME:DMD - Downtown El Paso
X-ORIGINAL-URL:https://downtownelpaso.com
X-WR-CALDESC:Events for DMD - Downtown El Paso
REFRESH-INTERVAL;VALUE=DURATION:PT1H
X-Robots-Tag:noindex
X-PUBLISHED-TTL:PT1H
BEGIN:VTIMEZONE
TZID:America/Denver
BEGIN:DAYLIGHT
TZOFFSETFROM:-0700
TZOFFSETTO:-0600
TZNAME:MDT
DTSTART:20250309T090000
END:DAYLIGHT
BEGIN:STANDARD
TZOFFSETFROM:-0600
TZOFFSETTO:-0700
TZNAME:MST
DTSTART:20251102T080000
END:STANDARD
BEGIN:DAYLIGHT
TZOFFSETFROM:-0700
TZOFFSETTO:-0600
TZNAME:MDT
DTSTART:20260308T090000
END:DAYLIGHT
BEGIN:STANDARD
TZOFFSETFROM:-0600
TZOFFSETTO:-0700
TZNAME:MST
DTSTART:20261101T080000
END:STANDARD
BEGIN:DAYLIGHT
TZOFFSETFROM:-0700
TZOFFSETTO:-0600
TZNAME:MDT
DTSTART:20270314T090000
END:DAYLIGHT
BEGIN:STANDARD
TZOFFSETFROM:-0600
TZOFFSETTO:-0700
TZNAME:MST
DTSTART:20271107T080000
END:STANDARD
END:VTIMEZONE
BEGIN:VEVENT
DTSTART;TZID=America/Denver:20260115T170000
DTEND;TZID=America/Denver:20260115T190000
DTSTAMP:20260419T094657
CREATED:20251229T185602Z
LAST-MODIFIED:20251229T185602Z
UID:11794-1768496400-1768503600@downtownelpaso.com
SUMMARY:Third Thursdays in the Downtown Arts District
DESCRIPTION:Locations across the Downtown Arts District join together for Third Thursdays! The monthly event features extended hours at locations across the Downtown Arts District Corridor\, often including special programming and activities. The initiative was created to encourage residents and visitors to experience the District in a new way\, taking advantage of multiple sites and programs in one evening. \nCurrent participants include: \n\nThe Market EP\nEl Paso Museum of Art\nEl Paso Museum of History\nEl Paso Mexican American Cultural Center\nEl Paso Library Main Branch\nVisit El Paso Visitors Information Center\nLa Nube STEAM Discovery Center\nEl Paso Community Foundation\n\nFor more information on specific activities and monthly hours\, follow the Museums and Cultural Affairs Department on social media. \nDo you want your institution or organization to participate in Third Thursdays? Reach out to KaighM@ElPasoTexas.gov for more information.
URL:https://downtownelpaso.com/event/third-thursdays-in-the-downtown-arts-district/
LOCATION:Arts Festival Plaza
ATTACH;FMTTYPE=image/png:https://downtownelpaso.com/wp-content/uploads/2025/12/Third_Thursday.png
END:VEVENT
END:VCALENDAR