BEGIN:VCALENDAR
VERSION:2.0
PRODID:-//DMD - Downtown El Paso - ECPv6.15.20//NONSGML v1.0//EN
CALSCALE:GREGORIAN
METHOD:PUBLISH
X-WR-CALNAME:DMD - Downtown El Paso
X-ORIGINAL-URL:https://downtownelpaso.com
X-WR-CALDESC:Events for DMD - Downtown El Paso
REFRESH-INTERVAL;VALUE=DURATION:PT1H
X-Robots-Tag:noindex
X-PUBLISHED-TTL:PT1H
BEGIN:VTIMEZONE
TZID:America/Denver
BEGIN:DAYLIGHT
TZOFFSETFROM:-0700
TZOFFSETTO:-0600
TZNAME:MDT
DTSTART:20250309T090000
END:DAYLIGHT
BEGIN:STANDARD
TZOFFSETFROM:-0600
TZOFFSETTO:-0700
TZNAME:MST
DTSTART:20251102T080000
END:STANDARD
BEGIN:DAYLIGHT
TZOFFSETFROM:-0700
TZOFFSETTO:-0600
TZNAME:MDT
DTSTART:20260308T090000
END:DAYLIGHT
BEGIN:STANDARD
TZOFFSETFROM:-0600
TZOFFSETTO:-0700
TZNAME:MST
DTSTART:20261101T080000
END:STANDARD
BEGIN:DAYLIGHT
TZOFFSETFROM:-0700
TZOFFSETTO:-0600
TZNAME:MDT
DTSTART:20270314T090000
END:DAYLIGHT
BEGIN:STANDARD
TZOFFSETFROM:-0600
TZOFFSETTO:-0700
TZNAME:MST
DTSTART:20271107T080000
END:STANDARD
END:VTIMEZONE
BEGIN:VEVENT
DTSTART;VALUE=DATE:20260502
DTEND;VALUE=DATE:20260504
DTSTAMP:20260423T045357
CREATED:20260219T154831Z
LAST-MODIFIED:20260219T154831Z
UID:12127-1777680000-1777852799@downtownelpaso.com
SUMMARY:Sol Summit Music & Cultura Festival
DESCRIPTION:Sol Summit Music & Cultura Festival is a two day celebration of music\, art\, and community\, taking place May 2 and May 3\, 2026\, in the heart of downtown El Paso. Built with intention and rooted in the Borderlands\, Sol Summit is an indie\, bilingual festival that brings together global artists\, national touring acts\, and local voices in a lineup that reflects the cultural richness and creative energy of the region.
URL:https://downtownelpaso.com/event/sol-summit-music-cultura-festival/
LOCATION:Downtown El Paso\, Mills Ave. between Mesa and Oregon\, El Paso\, 79901\, United States
ATTACH;FMTTYPE=image/png:https://downtownelpaso.com/wp-content/uploads/2026/02/lineup_poster_1080x1350-3a929eb2752944a366b31ece33e1e3ea.png
END:VEVENT
END:VCALENDAR