BEGIN:VCALENDAR
VERSION:2.0
PRODID:-//DMD - Downtown El Paso - ECPv6.15.20//NONSGML v1.0//EN
CALSCALE:GREGORIAN
METHOD:PUBLISH
X-WR-CALNAME:DMD - Downtown El Paso
X-ORIGINAL-URL:https://downtownelpaso.com
X-WR-CALDESC:Events for DMD - Downtown El Paso
REFRESH-INTERVAL;VALUE=DURATION:PT1H
X-Robots-Tag:noindex
X-PUBLISHED-TTL:PT1H
BEGIN:VTIMEZONE
TZID:America/Denver
BEGIN:DAYLIGHT
TZOFFSETFROM:-0700
TZOFFSETTO:-0600
TZNAME:MDT
DTSTART:20240310T090000
END:DAYLIGHT
BEGIN:STANDARD
TZOFFSETFROM:-0600
TZOFFSETTO:-0700
TZNAME:MST
DTSTART:20241103T080000
END:STANDARD
BEGIN:DAYLIGHT
TZOFFSETFROM:-0700
TZOFFSETTO:-0600
TZNAME:MDT
DTSTART:20250309T090000
END:DAYLIGHT
BEGIN:STANDARD
TZOFFSETFROM:-0600
TZOFFSETTO:-0700
TZNAME:MST
DTSTART:20251102T080000
END:STANDARD
BEGIN:DAYLIGHT
TZOFFSETFROM:-0700
TZOFFSETTO:-0600
TZNAME:MDT
DTSTART:20260308T090000
END:DAYLIGHT
BEGIN:STANDARD
TZOFFSETFROM:-0600
TZOFFSETTO:-0700
TZNAME:MST
DTSTART:20261101T080000
END:STANDARD
END:VTIMEZONE
BEGIN:VEVENT
DTSTART;TZID=America/Denver:20250501T080000
DTEND;TZID=America/Denver:20250501T223000
DTSTAMP:20260421T105601
CREATED:20250409T200958Z
LAST-MODIFIED:20250409T200958Z
UID:10421-1746086400-1746138600@downtownelpaso.com
SUMMARY:Rain: A Tribute to the Beatles
DESCRIPTION:AIN: A Tribute to the Beatles is an electrifying concert experience celebrating the timeless music of the legendary fab four. With note-for- note precision\, this mind-blowing performance transports you back to the iconic eras of Sgt. Pepper and Magical Mystery Tour\, along with all your favorite hits. From energetic classics to reflective favorites\, the band delivers an unforgettable performance that appeals to fans old and new. With vibrant costumes and psychedelic visuals\, RAIN creates a stunning concert full of nostalgia and good vibes. \nRAIN – A Tribute to the Beatles promises an extraordinary journey through the eras that captivates hearts and inspires all generations. \n  \n\nMay 1\, 2025\n8:00 PM\n125 W Mills Ave\, El Paso\, TX 79901
URL:https://downtownelpaso.com/event/rain-a-tribute-to-the-beatles/
LOCATION:The Plaza Theatre\, 125 W Mills Ave\, El Paso\, TX\, 79901\, United States
ATTACH;FMTTYPE=image/jpeg:https://downtownelpaso.com/wp-content/uploads/2025/04/Static_Digital-Website_930x560_RAIN-ATributetotheBeatles_2025_Regional_ThePlazaTheatre_0501.jpg
END:VEVENT
END:VCALENDAR