BEGIN:VCALENDAR
VERSION:2.0
PRODID:-//DMD - Downtown El Paso - ECPv6.15.20//NONSGML v1.0//EN
CALSCALE:GREGORIAN
METHOD:PUBLISH
X-WR-CALNAME:DMD - Downtown El Paso
X-ORIGINAL-URL:https://downtownelpaso.com
X-WR-CALDESC:Events for DMD - Downtown El Paso
REFRESH-INTERVAL;VALUE=DURATION:PT1H
X-Robots-Tag:noindex
X-PUBLISHED-TTL:PT1H
BEGIN:VTIMEZONE
TZID:America/Denver
BEGIN:DAYLIGHT
TZOFFSETFROM:-0700
TZOFFSETTO:-0600
TZNAME:MDT
DTSTART:20240310T090000
END:DAYLIGHT
BEGIN:STANDARD
TZOFFSETFROM:-0600
TZOFFSETTO:-0700
TZNAME:MST
DTSTART:20241103T080000
END:STANDARD
BEGIN:DAYLIGHT
TZOFFSETFROM:-0700
TZOFFSETTO:-0600
TZNAME:MDT
DTSTART:20250309T090000
END:DAYLIGHT
BEGIN:STANDARD
TZOFFSETFROM:-0600
TZOFFSETTO:-0700
TZNAME:MST
DTSTART:20251102T080000
END:STANDARD
BEGIN:DAYLIGHT
TZOFFSETFROM:-0700
TZOFFSETTO:-0600
TZNAME:MDT
DTSTART:20260308T090000
END:DAYLIGHT
BEGIN:STANDARD
TZOFFSETFROM:-0600
TZOFFSETTO:-0700
TZNAME:MST
DTSTART:20261101T080000
END:STANDARD
END:VTIMEZONE
BEGIN:VEVENT
DTSTART;TZID=America/Denver:20250618T190000
DTEND;TZID=America/Denver:20250618T220000
DTSTAMP:20260421T105503
CREATED:20250609T224403Z
LAST-MODIFIED:20250609T224425Z
UID:10873-1750273200-1750284000@downtownelpaso.com
SUMMARY:Pride Night at La Nube
DESCRIPTION:We’re so excited to welcome you to our first-ever Pride celebration at La Nube! \nAt La Nube\, we believe in building inclusive spaces where everyone feels seen\, valued\, and celebrated. We’re proud to partner with Sun City Pride\, a local organization doing incredible work to uplift and empower our LGBTQIA+ community. Even better? 20% of event proceeds will support their mission—so your ticket supports both Sun City Pride and La Nube’s mission to inspire STEAM learning through curiosity\, creativity\, and community. \n Date: June 18\, 2025\n Time: 7 PM – 10 PM\n Ticket Price: $40 Non-Member | $35 Member\n Ages: 18+ only \n What’s included with your ticket?\n• 1 Complimentary Drink & Cash Bar\n• Free Pride Goodies\n• Drag Show\n• Full After-Hours Access to All Exhibits\n• Live DJ & Savory Snacks\n• Hands-on STEAM Activities for All Ages\n• …and more surprises! \nCelebrate love\, joy\, identity\, and community with us in a night filled with learning\, fun\, and fabulousness. We can’t wait to see you at Pride at La Nube! 
URL:https://downtownelpaso.com/event/pride-night-at-la-nube/
LOCATION:La Nube\, 201 W. Main Drive\, El Paso\, TX\, 79901\, United States
ATTACH;FMTTYPE=image/jpeg:https://downtownelpaso.com/wp-content/uploads/2025/06/25_La-Nube_Pride-Night_930x560-0281aae2fce92a9ff84959ea5f6caacc.jpg
END:VEVENT
END:VCALENDAR