BEGIN:VCALENDAR
VERSION:2.0
PRODID:-//DMD - Downtown El Paso - ECPv6.15.20//NONSGML v1.0//EN
CALSCALE:GREGORIAN
METHOD:PUBLISH
X-WR-CALNAME:DMD - Downtown El Paso
X-ORIGINAL-URL:https://downtownelpaso.com
X-WR-CALDESC:Events for DMD - Downtown El Paso
REFRESH-INTERVAL;VALUE=DURATION:PT1H
X-Robots-Tag:noindex
X-PUBLISHED-TTL:PT1H
BEGIN:VTIMEZONE
TZID:America/Denver
BEGIN:DAYLIGHT
TZOFFSETFROM:-0700
TZOFFSETTO:-0600
TZNAME:MDT
DTSTART:20250309T090000
END:DAYLIGHT
BEGIN:STANDARD
TZOFFSETFROM:-0600
TZOFFSETTO:-0700
TZNAME:MST
DTSTART:20251102T080000
END:STANDARD
BEGIN:DAYLIGHT
TZOFFSETFROM:-0700
TZOFFSETTO:-0600
TZNAME:MDT
DTSTART:20260308T090000
END:DAYLIGHT
BEGIN:STANDARD
TZOFFSETFROM:-0600
TZOFFSETTO:-0700
TZNAME:MST
DTSTART:20261101T080000
END:STANDARD
BEGIN:DAYLIGHT
TZOFFSETFROM:-0700
TZOFFSETTO:-0600
TZNAME:MDT
DTSTART:20270314T090000
END:DAYLIGHT
BEGIN:STANDARD
TZOFFSETFROM:-0600
TZOFFSETTO:-0700
TZNAME:MST
DTSTART:20271107T080000
END:STANDARD
END:VTIMEZONE
BEGIN:VEVENT
DTSTART;TZID=America/Denver:20260325T170000
DTEND;TZID=America/Denver:20260325T190000
DTSTAMP:20260423T032304
CREATED:20260324T165154Z
LAST-MODIFIED:20260324T165154Z
UID:12534-1774458000-1774465200@downtownelpaso.com
SUMMARY:Local's Night
DESCRIPTION:Wednesdays are for locals at La Perla! Escape the midweek routine and join us every Wednesday for $5 bites and $10 drinks while enjoying the stunning rooftop views of El Paso\, the Franklin Mountains\, and the borders of Mexico and New Mexico. Whether you’re catching up with friends\, enjoying a date night\, or simply treating yourself\, La Perla offers the perfect setting for a relaxed evening of great food\, refreshing drinks\, and unbeatable vibes—right in the heart of your city.
URL:https://downtownelpaso.com/event/locals-night/
LOCATION:La Perla\, 106 W Mills Ave\, El Paso\, TX\, 79901\, United States
ATTACH;FMTTYPE=image/png:https://downtownelpaso.com/wp-content/uploads/2026/03/Locals_Night_La_Perla_Visit_El_Paso.png
END:VEVENT
END:VCALENDAR