BEGIN:VCALENDAR
VERSION:2.0
PRODID:-//DMD - Downtown El Paso - ECPv6.15.20//NONSGML v1.0//EN
CALSCALE:GREGORIAN
METHOD:PUBLISH
X-WR-CALNAME:DMD - Downtown El Paso
X-ORIGINAL-URL:https://downtownelpaso.com
X-WR-CALDESC:Events for DMD - Downtown El Paso
REFRESH-INTERVAL;VALUE=DURATION:PT1H
X-Robots-Tag:noindex
X-PUBLISHED-TTL:PT1H
BEGIN:VTIMEZONE
TZID:America/Denver
BEGIN:DAYLIGHT
TZOFFSETFROM:-0700
TZOFFSETTO:-0600
TZNAME:MDT
DTSTART:20250309T090000
END:DAYLIGHT
BEGIN:STANDARD
TZOFFSETFROM:-0600
TZOFFSETTO:-0700
TZNAME:MST
DTSTART:20251102T080000
END:STANDARD
BEGIN:DAYLIGHT
TZOFFSETFROM:-0700
TZOFFSETTO:-0600
TZNAME:MDT
DTSTART:20260308T090000
END:DAYLIGHT
BEGIN:STANDARD
TZOFFSETFROM:-0600
TZOFFSETTO:-0700
TZNAME:MST
DTSTART:20261101T080000
END:STANDARD
BEGIN:DAYLIGHT
TZOFFSETFROM:-0700
TZOFFSETTO:-0600
TZNAME:MDT
DTSTART:20270314T090000
END:DAYLIGHT
BEGIN:STANDARD
TZOFFSETFROM:-0600
TZOFFSETTO:-0700
TZNAME:MST
DTSTART:20271107T080000
END:STANDARD
END:VTIMEZONE
BEGIN:VEVENT
DTSTART;TZID=America/Denver:20260118T110000
DTEND;TZID=America/Denver:20260118T123000
DTSTAMP:20260423T061738
CREATED:20260112T171312Z
LAST-MODIFIED:20260112T171312Z
UID:11831-1768734000-1768739400@downtownelpaso.com
SUMMARY:Leather Workshop - Tote Bag
DESCRIPTION:Learn how to cut and peiece together this tote that is designed to elevate any outfit\, ensuring you make a statement wherever you go. This premium leather will develop a stunning patina\, enhancing its character over time. Full grain leather retains the strongest fibers\, ensuring durability and longevity; unlike other leathers\, it has not been sanded down to achieve an artificial shine. \n  \nCOURSE DEATAILS \nLOCATION: 314 N Mesa – Cortez Building across San Jacinto Plaza\nTIME: 11 am\nSpace is limited to 4 people – Course is limited to paid participants only.\nTickets: $199
URL:https://downtownelpaso.com/event/leather-workshop-tote-bag/
LOCATION:El Paso’s Finest\, 314 N Mesa\, El Paso\, TX\, 79901\, United States
ATTACH;FMTTYPE=image/png:https://downtownelpaso.com/wp-content/uploads/2026/01/tll.png
END:VEVENT
END:VCALENDAR