BEGIN:VCALENDAR
VERSION:2.0
PRODID:-//DMD - Downtown El Paso - ECPv6.15.20//NONSGML v1.0//EN
CALSCALE:GREGORIAN
METHOD:PUBLISH
X-WR-CALNAME:DMD - Downtown El Paso
X-ORIGINAL-URL:https://downtownelpaso.com
X-WR-CALDESC:Events for DMD - Downtown El Paso
REFRESH-INTERVAL;VALUE=DURATION:PT1H
X-Robots-Tag:noindex
X-PUBLISHED-TTL:PT1H
BEGIN:VTIMEZONE
TZID:America/Denver
BEGIN:DAYLIGHT
TZOFFSETFROM:-0700
TZOFFSETTO:-0600
TZNAME:MDT
DTSTART:20250309T090000
END:DAYLIGHT
BEGIN:STANDARD
TZOFFSETFROM:-0600
TZOFFSETTO:-0700
TZNAME:MST
DTSTART:20251102T080000
END:STANDARD
BEGIN:DAYLIGHT
TZOFFSETFROM:-0700
TZOFFSETTO:-0600
TZNAME:MDT
DTSTART:20260308T090000
END:DAYLIGHT
BEGIN:STANDARD
TZOFFSETFROM:-0600
TZOFFSETTO:-0700
TZNAME:MST
DTSTART:20261101T080000
END:STANDARD
BEGIN:DAYLIGHT
TZOFFSETFROM:-0700
TZOFFSETTO:-0600
TZNAME:MDT
DTSTART:20270314T090000
END:DAYLIGHT
BEGIN:STANDARD
TZOFFSETFROM:-0600
TZOFFSETTO:-0700
TZNAME:MST
DTSTART:20271107T080000
END:STANDARD
END:VTIMEZONE
BEGIN:VEVENT
DTSTART;TZID=America/Denver:20260126T100000
DTEND;TZID=America/Denver:20260126T123000
DTSTAMP:20260424T084658
CREATED:20260112T171834Z
LAST-MODIFIED:20260112T171852Z
UID:11834-1769421600-1769430600@downtownelpaso.com
SUMMARY:Leather Workshop - Gym Bag
DESCRIPTION:Join us in creating our newest product\, designed to enhance your fitness journey. This is not just an opportunity to contribute; it’s a chance to elevate your experience and be part of something innovative. \nOne bag per person. \nCOURSE DEATAILS \nLOCATION: 314 N Mesa – Cortez Building across San Jacinto Plaza\nTIME: 10 am\nSpace is limited to 3 people – Course is limited to paid participants only\nTickets: $325
URL:https://downtownelpaso.com/event/leather-workshop-gym-bag-2/
LOCATION:El Paso’s Finest\, 314 N Mesa\, El Paso\, TX\, 79901\, United States
ATTACH;FMTTYPE=image/png:https://downtownelpaso.com/wp-content/uploads/2026/01/tll.png
END:VEVENT
END:VCALENDAR