BEGIN:VCALENDAR
VERSION:2.0
PRODID:-//DMD - Downtown El Paso - ECPv6.15.20//NONSGML v1.0//EN
CALSCALE:GREGORIAN
METHOD:PUBLISH
X-WR-CALNAME:DMD - Downtown El Paso
X-ORIGINAL-URL:https://downtownelpaso.com
X-WR-CALDESC:Events for DMD - Downtown El Paso
REFRESH-INTERVAL;VALUE=DURATION:PT1H
X-Robots-Tag:noindex
X-PUBLISHED-TTL:PT1H
BEGIN:VTIMEZONE
TZID:America/Denver
BEGIN:DAYLIGHT
TZOFFSETFROM:-0700
TZOFFSETTO:-0600
TZNAME:MDT
DTSTART:20250309T090000
END:DAYLIGHT
BEGIN:STANDARD
TZOFFSETFROM:-0600
TZOFFSETTO:-0700
TZNAME:MST
DTSTART:20251102T080000
END:STANDARD
BEGIN:DAYLIGHT
TZOFFSETFROM:-0700
TZOFFSETTO:-0600
TZNAME:MDT
DTSTART:20260308T090000
END:DAYLIGHT
BEGIN:STANDARD
TZOFFSETFROM:-0600
TZOFFSETTO:-0700
TZNAME:MST
DTSTART:20261101T080000
END:STANDARD
BEGIN:DAYLIGHT
TZOFFSETFROM:-0700
TZOFFSETTO:-0600
TZNAME:MDT
DTSTART:20270314T090000
END:DAYLIGHT
BEGIN:STANDARD
TZOFFSETFROM:-0600
TZOFFSETTO:-0700
TZNAME:MST
DTSTART:20271107T080000
END:STANDARD
END:VTIMEZONE
BEGIN:VEVENT
DTSTART;TZID=America/Denver:20260314T110000
DTEND;TZID=America/Denver:20260314T200000
DTSTAMP:20260420T063521
CREATED:20260306T230224Z
LAST-MODIFIED:20260306T230224Z
UID:12262-1773486000-1773518400@downtownelpaso.com
SUMMARY:Hot Cards Expo Show (FREE)
DESCRIPTION:The Hot Cards Expo Show is coming to the El Paso Convention Center!  March 14\, 2026 11 AM – 8 PM FREE AdmissionShop art\, sports cards\, TCG\, vintage clothes\, and so much more! Don’t miss it!
URL:https://downtownelpaso.com/event/hot-cards-expo-show-free/
LOCATION:El Paso Convention Center\, 1 Civic Center Plaza\, El Paso\, TX\, 79901\, United States
ATTACH;FMTTYPE=image/png:https://downtownelpaso.com/wp-content/uploads/2026/03/Web_Event_Thumnail_3.png
END:VEVENT
END:VCALENDAR