BEGIN:VCALENDAR
VERSION:2.0
PRODID:-//DMD - Downtown El Paso - ECPv6.15.20//NONSGML v1.0//EN
CALSCALE:GREGORIAN
METHOD:PUBLISH
X-WR-CALNAME:DMD - Downtown El Paso
X-ORIGINAL-URL:https://downtownelpaso.com
X-WR-CALDESC:Events for DMD - Downtown El Paso
REFRESH-INTERVAL;VALUE=DURATION:PT1H
X-Robots-Tag:noindex
X-PUBLISHED-TTL:PT1H
BEGIN:VTIMEZONE
TZID:America/Denver
BEGIN:DAYLIGHT
TZOFFSETFROM:-0700
TZOFFSETTO:-0600
TZNAME:MDT
DTSTART:20250309T090000
END:DAYLIGHT
BEGIN:STANDARD
TZOFFSETFROM:-0600
TZOFFSETTO:-0700
TZNAME:MST
DTSTART:20251102T080000
END:STANDARD
BEGIN:DAYLIGHT
TZOFFSETFROM:-0700
TZOFFSETTO:-0600
TZNAME:MDT
DTSTART:20260308T090000
END:DAYLIGHT
BEGIN:STANDARD
TZOFFSETFROM:-0600
TZOFFSETTO:-0700
TZNAME:MST
DTSTART:20261101T080000
END:STANDARD
BEGIN:DAYLIGHT
TZOFFSETFROM:-0700
TZOFFSETTO:-0600
TZNAME:MDT
DTSTART:20270314T090000
END:DAYLIGHT
BEGIN:STANDARD
TZOFFSETFROM:-0600
TZOFFSETTO:-0700
TZNAME:MST
DTSTART:20271107T080000
END:STANDARD
END:VTIMEZONE
BEGIN:VEVENT
DTSTART;TZID=America/Denver:20260328T200000
DTEND;TZID=America/Denver:20260328T220000
DTSTAMP:20260419T113543
CREATED:20260324T165943Z
LAST-MODIFIED:20260324T165943Z
UID:12546-1774728000-1774735200@downtownelpaso.com
SUMMARY:Haunted Brothel Tour with Ghosts915
DESCRIPTION:El Paso’s original “sin” comes alive on this Haunted Brothel Tour! \nWe hold NOTHING back as our ghost tour guides will take you in the darkest alleys and reveal El Paso’s secret history. This two hour walking excursion will take you into “ the reservation” and expose murder\, corruption\, adultery\, and prostitution of the Old West! \nTHIS will be the most shocking and revealing history of the Sun City. \nWARNING: This ghost tour is NOT for small children\, the faint of heart\, or the easily offended. This tour WILL contain adult situations\, offensive history\, and adult language. \nWe meet at the Society office\, The Wigwam Museum. This building\, which rests on the foundation of the original Wigwam Saloon\, once owned by John Wesley Hardin\, is the Trost version of The Wigwam Theater and the State Theater. Our museum houses a personal collection of items that recreate El Paso’s past. From the Chinese\, Gunfighters\, Brothels\, Saloons\, and much more\, walk with us and step into El Paso’s Haunted History. \nADMISSION INFORMATION: Please verify the date and time of your tour. No refunds for late arrivals\, weather cancellations or missed tours. Your purchase is good for any tour within 3 months of purchase. Please confirm all arrival times. \nChildren 15 and up \nTickets: https://checkout.square.site/buy/YKTOHKA6HVLI24KHJBMFIGU2
URL:https://downtownelpaso.com/event/haunted-brothel-tour-with-ghosts915-6/
LOCATION:Wigwam Museum\, 110 E San Antonio Ave\, El Paso\, 79901\, United States
ATTACH;FMTTYPE=image/jpeg:https://downtownelpaso.com/wp-content/uploads/2025/12/IMG_3588.jpeg
END:VEVENT
END:VCALENDAR