BEGIN:VCALENDAR
VERSION:2.0
PRODID:-//DMD - Downtown El Paso - ECPv6.15.20//NONSGML v1.0//EN
CALSCALE:GREGORIAN
METHOD:PUBLISH
X-WR-CALNAME:DMD - Downtown El Paso
X-ORIGINAL-URL:https://downtownelpaso.com
X-WR-CALDESC:Events for DMD - Downtown El Paso
REFRESH-INTERVAL;VALUE=DURATION:PT1H
X-Robots-Tag:noindex
X-PUBLISHED-TTL:PT1H
BEGIN:VTIMEZONE
TZID:America/Denver
BEGIN:DAYLIGHT
TZOFFSETFROM:-0700
TZOFFSETTO:-0600
TZNAME:MDT
DTSTART:20250309T090000
END:DAYLIGHT
BEGIN:STANDARD
TZOFFSETFROM:-0600
TZOFFSETTO:-0700
TZNAME:MST
DTSTART:20251102T080000
END:STANDARD
BEGIN:DAYLIGHT
TZOFFSETFROM:-0700
TZOFFSETTO:-0600
TZNAME:MDT
DTSTART:20260308T090000
END:DAYLIGHT
BEGIN:STANDARD
TZOFFSETFROM:-0600
TZOFFSETTO:-0700
TZNAME:MST
DTSTART:20261101T080000
END:STANDARD
BEGIN:DAYLIGHT
TZOFFSETFROM:-0700
TZOFFSETTO:-0600
TZNAME:MDT
DTSTART:20270314T090000
END:DAYLIGHT
BEGIN:STANDARD
TZOFFSETFROM:-0600
TZOFFSETTO:-0700
TZNAME:MST
DTSTART:20271107T080000
END:STANDARD
END:VTIMEZONE
BEGIN:VEVENT
DTSTART;TZID=America/Denver:20260327T190000
DTEND;TZID=America/Denver:20260327T210000
DTSTAMP:20260419T081356
CREATED:20260324T165750Z
LAST-MODIFIED:20260324T165750Z
UID:12543-1774638000-1774645200@downtownelpaso.com
SUMMARY:Gold Label Comedy: Live in El Paso w DEEJAY VASQUEZ!
DESCRIPTION:Gold Label Comedy hearkens back to the comedy lounges of old when laughter and smoke filled the air\, gas was 40 cents a gallon\, and Nixon was still seen as a “pretty alright guy.” \nFeaturing El Paso favorite DeeJay Vasquez — out of Austin\, TX and seen touring across the country with Willie Barcena — this show brings together four headliner-level comics delivering top-shelf jokes and stories all night long. \nSet inside a true cigar lounge\, you’ll puff\, sip\, and laugh your way through a night built for people who appreciate comedy done right. \nThis isn’t an open mic. This is the show comics aspire to get on — and they come dressed to impress. \nSpecial Event Promotion: Ticket holders receive 15% off liquor & cocktails. \nIMPORTANT NOTES: • As a true indoor cigar lounge\, all attendees are required to purchase a cigar. If you don’t smoke\, no problem — please consider donating a cigar to Cigars For Warriors\, a nonprofit supporting those who have served. • 21+ ONLY — no one underage will be admitted under any circumstances. • This is a cigar lounge — no cigarettes or vapes allowed. • This is a Rain or Shine Event — all sales final\, no refunds.
URL:https://downtownelpaso.com/event/gold-label-comedy-live-in-el-paso-w-deejay-vasquez/
LOCATION:Vitola’s\, 216 W Franklin Ave\, El Paso\, TX\, 79901\, United States
ATTACH;FMTTYPE=image/jpeg:https://downtownelpaso.com/wp-content/uploads/2026/03/138550-Gold_Label_Comedy_Live_in_El_Paso_w_DEEJAY_VASQUEZ.jpg
END:VEVENT
END:VCALENDAR