BEGIN:VCALENDAR
VERSION:2.0
PRODID:-//DMD - Downtown El Paso - ECPv6.15.20//NONSGML v1.0//EN
CALSCALE:GREGORIAN
METHOD:PUBLISH
X-WR-CALNAME:DMD - Downtown El Paso
X-ORIGINAL-URL:https://downtownelpaso.com
X-WR-CALDESC:Events for DMD - Downtown El Paso
REFRESH-INTERVAL;VALUE=DURATION:PT1H
X-Robots-Tag:noindex
X-PUBLISHED-TTL:PT1H
BEGIN:VTIMEZONE
TZID:America/Denver
BEGIN:DAYLIGHT
TZOFFSETFROM:-0700
TZOFFSETTO:-0600
TZNAME:MDT
DTSTART:20230312T090000
END:DAYLIGHT
BEGIN:STANDARD
TZOFFSETFROM:-0600
TZOFFSETTO:-0700
TZNAME:MST
DTSTART:20231105T080000
END:STANDARD
BEGIN:DAYLIGHT
TZOFFSETFROM:-0700
TZOFFSETTO:-0600
TZNAME:MDT
DTSTART:20240310T090000
END:DAYLIGHT
BEGIN:STANDARD
TZOFFSETFROM:-0600
TZOFFSETTO:-0700
TZNAME:MST
DTSTART:20241103T080000
END:STANDARD
BEGIN:DAYLIGHT
TZOFFSETFROM:-0700
TZOFFSETTO:-0600
TZNAME:MDT
DTSTART:20250309T090000
END:DAYLIGHT
BEGIN:STANDARD
TZOFFSETFROM:-0600
TZOFFSETTO:-0700
TZNAME:MST
DTSTART:20251102T080000
END:STANDARD
END:VTIMEZONE
BEGIN:VEVENT
DTSTART;TZID=America/Denver:20240525T170000
DTEND;TZID=America/Denver:20240525T210000
DTSTAMP:20260422T051651
CREATED:20240523T223212Z
LAST-MODIFIED:20240523T223212Z
UID:8310-1716656400-1716670800@downtownelpaso.com
SUMMARY:El Paso's Finest Art Show - Wu Tang Inspired
DESCRIPTION:
URL:https://downtownelpaso.com/event/el-pasos-finest-art-show-wu-tang-inspired/
LOCATION:Cortez Building Lobby\, 314 N. Mesa\, El Paso\, TX\, 79901\, United States
ATTACH;FMTTYPE=image/jpeg:https://downtownelpaso.com/wp-content/uploads/2024/05/442436839_18311870182199469_4320086446709178971_n.jpg
END:VEVENT
END:VCALENDAR