BEGIN:VCALENDAR
VERSION:2.0
PRODID:-//DMD - Downtown El Paso - ECPv6.15.20//NONSGML v1.0//EN
CALSCALE:GREGORIAN
METHOD:PUBLISH
X-WR-CALNAME:DMD - Downtown El Paso
X-ORIGINAL-URL:https://downtownelpaso.com
X-WR-CALDESC:Events for DMD - Downtown El Paso
REFRESH-INTERVAL;VALUE=DURATION:PT1H
X-Robots-Tag:noindex
X-PUBLISHED-TTL:PT1H
BEGIN:VTIMEZONE
TZID:America/Denver
BEGIN:DAYLIGHT
TZOFFSETFROM:-0700
TZOFFSETTO:-0600
TZNAME:MDT
DTSTART:20240310T090000
END:DAYLIGHT
BEGIN:STANDARD
TZOFFSETFROM:-0600
TZOFFSETTO:-0700
TZNAME:MST
DTSTART:20241103T080000
END:STANDARD
BEGIN:DAYLIGHT
TZOFFSETFROM:-0700
TZOFFSETTO:-0600
TZNAME:MDT
DTSTART:20250309T090000
END:DAYLIGHT
BEGIN:STANDARD
TZOFFSETFROM:-0600
TZOFFSETTO:-0700
TZNAME:MST
DTSTART:20251102T080000
END:STANDARD
BEGIN:DAYLIGHT
TZOFFSETFROM:-0700
TZOFFSETTO:-0600
TZNAME:MDT
DTSTART:20260308T090000
END:DAYLIGHT
BEGIN:STANDARD
TZOFFSETFROM:-0600
TZOFFSETTO:-0700
TZNAME:MST
DTSTART:20261101T080000
END:STANDARD
END:VTIMEZONE
BEGIN:VEVENT
DTSTART;TZID=America/Denver:20250503T190000
DTEND;TZID=America/Denver:20250503T210000
DTSTAMP:20260420T045232
CREATED:20250409T205031Z
LAST-MODIFIED:20250409T205031Z
UID:10452-1746298800-1746306000@downtownelpaso.com
SUMMARY:El Paso Locomotive FC vs. New Mexico United
DESCRIPTION:Theme: Cinco De Mayo \nMay 3\, 2025\n7:00 PM – 9:00 PM\n1 Ballpark Plaza\, El Paso\, Texas\, 79901
URL:https://downtownelpaso.com/event/el-paso-locomotive-fc-vs-new-mexico-united/
LOCATION:Southwest University Park\, 1 Ballpark Plaza\, El Paso\, TX\, 79901\, United States
ATTACH;FMTTYPE=image/jpeg:https://downtownelpaso.com/wp-content/uploads/2025/04/ElPasoLocomotive_Crest.jpg
ORGANIZER;CN="El Paso Locomotive":MAILTO:info@eplocomotivefc.com
END:VEVENT
END:VCALENDAR