BEGIN:VCALENDAR
VERSION:2.0
PRODID:-//DMD - Downtown El Paso - ECPv6.15.20//NONSGML v1.0//EN
CALSCALE:GREGORIAN
METHOD:PUBLISH
X-WR-CALNAME:DMD - Downtown El Paso
X-ORIGINAL-URL:https://downtownelpaso.com
X-WR-CALDESC:Events for DMD - Downtown El Paso
REFRESH-INTERVAL;VALUE=DURATION:PT1H
X-Robots-Tag:noindex
X-PUBLISHED-TTL:PT1H
BEGIN:VTIMEZONE
TZID:America/Denver
BEGIN:DAYLIGHT
TZOFFSETFROM:-0700
TZOFFSETTO:-0600
TZNAME:MDT
DTSTART:20230312T090000
END:DAYLIGHT
BEGIN:STANDARD
TZOFFSETFROM:-0600
TZOFFSETTO:-0700
TZNAME:MST
DTSTART:20231105T080000
END:STANDARD
BEGIN:DAYLIGHT
TZOFFSETFROM:-0700
TZOFFSETTO:-0600
TZNAME:MDT
DTSTART:20240310T090000
END:DAYLIGHT
BEGIN:STANDARD
TZOFFSETFROM:-0600
TZOFFSETTO:-0700
TZNAME:MST
DTSTART:20241103T080000
END:STANDARD
BEGIN:DAYLIGHT
TZOFFSETFROM:-0700
TZOFFSETTO:-0600
TZNAME:MDT
DTSTART:20250309T090000
END:DAYLIGHT
BEGIN:STANDARD
TZOFFSETFROM:-0600
TZOFFSETTO:-0700
TZNAME:MST
DTSTART:20251102T080000
END:STANDARD
END:VTIMEZONE
BEGIN:VEVENT
DTSTART;TZID=America/Denver:20240813T063000
DTEND;TZID=America/Denver:20240813T213000
DTSTAMP:20260422T033603
CREATED:20240806T211311Z
LAST-MODIFIED:20240806T211311Z
UID:8850-1723530600-1723584600@downtownelpaso.com
SUMMARY:El Paso Chihuahuas vs Reno
DESCRIPTION:
URL:https://downtownelpaso.com/event/el-paso-chihuahuas-vs-reno/
LOCATION:Southwest University Park\, 1 Ballpark Plaza\, El Paso\, TX\, 79901\, United States
ATTACH;FMTTYPE=image/webp:https://downtownelpaso.com/wp-content/uploads/2023/12/chihuahuas.webp
ORGANIZER;CN="El Paso Chihuahuas":MAILTO:info@epchihuahuas.com
END:VEVENT
END:VCALENDAR