BEGIN:VCALENDAR
VERSION:2.0
PRODID:-//DMD - Downtown El Paso - ECPv6.15.20//NONSGML v1.0//EN
CALSCALE:GREGORIAN
METHOD:PUBLISH
X-WR-CALNAME:DMD - Downtown El Paso
X-ORIGINAL-URL:https://downtownelpaso.com
X-WR-CALDESC:Events for DMD - Downtown El Paso
REFRESH-INTERVAL;VALUE=DURATION:PT1H
X-Robots-Tag:noindex
X-PUBLISHED-TTL:PT1H
BEGIN:VTIMEZONE
TZID:America/Denver
BEGIN:DAYLIGHT
TZOFFSETFROM:-0700
TZOFFSETTO:-0600
TZNAME:MDT
DTSTART:20250309T090000
END:DAYLIGHT
BEGIN:STANDARD
TZOFFSETFROM:-0600
TZOFFSETTO:-0700
TZNAME:MST
DTSTART:20251102T080000
END:STANDARD
BEGIN:DAYLIGHT
TZOFFSETFROM:-0700
TZOFFSETTO:-0600
TZNAME:MDT
DTSTART:20260308T090000
END:DAYLIGHT
BEGIN:STANDARD
TZOFFSETFROM:-0600
TZOFFSETTO:-0700
TZNAME:MST
DTSTART:20261101T080000
END:STANDARD
BEGIN:DAYLIGHT
TZOFFSETFROM:-0700
TZOFFSETTO:-0600
TZNAME:MDT
DTSTART:20270314T090000
END:DAYLIGHT
BEGIN:STANDARD
TZOFFSETFROM:-0600
TZOFFSETTO:-0700
TZNAME:MST
DTSTART:20271107T080000
END:STANDARD
END:VTIMEZONE
BEGIN:VEVENT
DTSTART;TZID=America/Denver:20260321T190000
DTEND;TZID=America/Denver:20260321T220000
DTSTAMP:20260421T075812
CREATED:20251229T180106Z
LAST-MODIFIED:20251229T180457Z
UID:11745-1774119600-1774130400@downtownelpaso.com
SUMMARY:Ali Siddiq: In The Shadows Tour
DESCRIPTION:This event will be a phone-free experience. Use of cellphones\, smart watches\, smart accessories\, cameras\, or recording devices will not be permitted in the performance space. \nUpon arrival at the venue\, all phones\, smart watches\, and accessories will be secured in Yondr pouches that will be opened at the end of the event. Guests maintain possession of their belongings at all times and can access their phones throughout the event at designated Phone Use Areas in the venue. All phones will be re-secured in Yondr pouches before returning to the event space. \nAnyone seen using a non-permitted device during the performance will be escorted out of the venue. Guests are encouraged to bring a credit card for purchases inside the venue. We appreciate your cooperation in creating a phone-free viewing experience. \nTickets: Click Here
URL:https://downtownelpaso.com/event/ali-siddiq-in-the-shadows-tour/
LOCATION:The Plaza Theatre\, 125 W Mills Ave\, El Paso\, TX\, 79901\, United States
ATTACH;FMTTYPE=image/jpeg:https://downtownelpaso.com/wp-content/uploads/2025/12/AliSiddiq_ElPaso_930x560.jpg
END:VEVENT
END:VCALENDAR