BEGIN:VCALENDAR
VERSION:2.0
PRODID:-//DMD - Downtown El Paso - ECPv6.15.20//NONSGML v1.0//EN
CALSCALE:GREGORIAN
METHOD:PUBLISH
X-WR-CALNAME:DMD - Downtown El Paso
X-ORIGINAL-URL:https://downtownelpaso.com
X-WR-CALDESC:Events for DMD - Downtown El Paso
REFRESH-INTERVAL;VALUE=DURATION:PT1H
X-Robots-Tag:noindex
X-PUBLISHED-TTL:PT1H
BEGIN:VTIMEZONE
TZID:America/Denver
BEGIN:DAYLIGHT
TZOFFSETFROM:-0700
TZOFFSETTO:-0600
TZNAME:MDT
DTSTART:20240310T090000
END:DAYLIGHT
BEGIN:STANDARD
TZOFFSETFROM:-0600
TZOFFSETTO:-0700
TZNAME:MST
DTSTART:20241103T080000
END:STANDARD
BEGIN:DAYLIGHT
TZOFFSETFROM:-0700
TZOFFSETTO:-0600
TZNAME:MDT
DTSTART:20250309T090000
END:DAYLIGHT
BEGIN:STANDARD
TZOFFSETFROM:-0600
TZOFFSETTO:-0700
TZNAME:MST
DTSTART:20251102T080000
END:STANDARD
BEGIN:DAYLIGHT
TZOFFSETFROM:-0700
TZOFFSETTO:-0600
TZNAME:MDT
DTSTART:20260308T090000
END:DAYLIGHT
BEGIN:STANDARD
TZOFFSETFROM:-0600
TZOFFSETTO:-0700
TZNAME:MST
DTSTART:20261101T080000
END:STANDARD
END:VTIMEZONE
BEGIN:VEVENT
DTSTART;TZID=America/Denver:20250628T150000
DTEND;TZID=America/Denver:20250628T200000
DTSTAMP:20260420T062813
CREATED:20250625T161259Z
LAST-MODIFIED:20250625T161259Z
UID:10974-1751122800-1751140800@downtownelpaso.com
SUMMARY:3F Auto Show
DESCRIPTION:3F Auto Show is an all indoor car enthusiast event that is open to all vehicle genres and styles. Our goal is for everyone to enjoy our events and have a great experience that can be shared among other car enthusiasts. Cars\, friends and family. \nOur event takes place indoors\, prioritizing attendee comfort while showcasing an array of spectacular cars under top-notch lighting. With a commitment to family-friendliness\, we invite you to be a part of the experience!
URL:https://downtownelpaso.com/event/3f-auto-show/
LOCATION:El Paso Convention Center\, 1 Civic Center Plaza\, El Paso\, TX\, 79901\, United States
ATTACH;FMTTYPE=image/png:https://downtownelpaso.com/wp-content/uploads/2025/06/3F_Auto_930_x_560_1.png
END:VEVENT
END:VCALENDAR